Package: MPAC Version: 1.4.0 Command: /Library/Frameworks/R.framework/Resources/bin/R CMD INSTALL MPAC StartedAt: 2025-11-03 15:53:12 -0500 (Mon, 03 Nov 2025) EndedAt: 2025-11-03 15:53:58 -0500 (Mon, 03 Nov 2025) EllapsedTime: 46.0 seconds RetCode: 0 Status: OK