Package: MPAC Version: 1.4.0 Command: /Library/Frameworks/R.framework/Resources/bin/R CMD INSTALL MPAC StartedAt: 2025-11-10 15:29:11 -0500 (Mon, 10 Nov 2025) EndedAt: 2025-11-10 15:29:26 -0500 (Mon, 10 Nov 2025) EllapsedTime: 14.3 seconds RetCode: 0 Status: OK