Package: MPAC Version: 1.4.0 Command: rm -rf MPAC.buildbin-libdir && mkdir MPAC.buildbin-libdir && /Users/biocbuild/BBS/utils/build-universal.sh MPAC_1.4.0.tar.gz /Library/Frameworks/R.framework/Resources/bin/R MPAC.buildbin-libdir StartedAt: 2025-11-10 23:28:09 -0500 (Mon, 10 Nov 2025) EndedAt: 2025-11-10 23:28:24 -0500 (Mon, 10 Nov 2025) EllapsedTime: 15.4 seconds RetCode: 0 Status: OK PackageFile: MPAC_1.4.0.tgz PackageFileSize: 849.4 KiB