Package: MOSim Version: 2.5.0 Command: /home/biocbuild/R/R/bin/R CMD INSTALL MOSim StartedAt: 2025-10-16 22:22:43 -0000 (Thu, 16 Oct 2025) EndedAt: 2025-10-16 22:23:42 -0000 (Thu, 16 Oct 2025) EllapsedTime: 59.7 seconds RetCode: 0 Status: OK