Package: MOSClip Version: 1.4.0 Command: /home/biocbuild/R/R/bin/R CMD build --keep-empty-dirs --no-resave-data MOSClip StartedAt: 2025-11-14 03:29:09 -0000 (Fri, 14 Nov 2025) EndedAt: 2025-11-14 03:31:10 -0000 (Fri, 14 Nov 2025) EllapsedTime: 121.1 seconds RetCode: 0 Status: OK PackageFile: MOSClip_1.4.0.tar.gz PackageFileSize: 1.303 MiB