Package: MOMA Version: 1.21.0 Command: /home/biocbuild/R/R/bin/R CMD check --install=check:MOMA.install-out.txt --library=/home/biocbuild/R/R/site-library --no-vignettes --timings MOMA_1.21.0.tar.gz StartedAt: 2025-10-03 09:13:41 -0000 (Fri, 03 Oct 2025) EndedAt: 2025-10-03 09:18:11 -0000 (Fri, 03 Oct 2025) EllapsedTime: 269.4 seconds RetCode: 0 Status: OK CheckDir: MOMA.Rcheck Warnings: 0