Package: MOMA Version: 1.21.0 Command: F:\biocbuild\bbs-3.22-bioc\R\bin\R.exe CMD INSTALL MOMA StartedAt: 2025-08-14 16:05:48 -0400 (Thu, 14 Aug 2025) EndedAt: 2025-08-14 16:06:47 -0400 (Thu, 14 Aug 2025) EllapsedTime: 59.2 seconds RetCode: 0 Status: OK