Package: MOMA Version: 1.21.0 Command: chmod a+r MOMA -R && F:\biocbuild\bbs-3.22-bioc\R\bin\R.exe CMD build --keep-empty-dirs --no-resave-data MOMA StartedAt: 2025-08-14 21:36:27 -0400 (Thu, 14 Aug 2025) EndedAt: 2025-08-14 21:39:34 -0400 (Thu, 14 Aug 2025) EllapsedTime: 187.0 seconds RetCode: 0 Status: OK PackageFile: MOMA_1.21.0.tar.gz PackageFileSize: 4.222 MiB