Package: MOMA Version: 1.21.0 Command: /home/biocbuild/bbs-3.22-bioc/R/bin/R CMD build --keep-empty-dirs --no-resave-data --md5 MOMA StartedAt: 2025-09-29 19:03:40 -0400 (Mon, 29 Sep 2025) EndedAt: 2025-09-29 19:05:44 -0400 (Mon, 29 Sep 2025) EllapsedTime: 124.1 seconds RetCode: 0 Status: OK PackageFile: MOMA_1.21.0.tar.gz PackageFileSize: 4.293 MiB