Package: MOMA Version: 1.21.0 Command: rm -rf MOMA.buildbin-libdir && mkdir MOMA.buildbin-libdir && /Users/biocbuild/BBS/utils/build-universal.sh MOMA_1.21.0.tar.gz /Library/Frameworks/R.framework/Resources/bin/R MOMA.buildbin-libdir StartedAt: 2025-10-01 01:53:14 -0400 (Wed, 01 Oct 2025) EndedAt: 2025-10-01 01:54:06 -0400 (Wed, 01 Oct 2025) EllapsedTime: 51.6 seconds RetCode: 0 Status: OK PackageFile: MOMA_1.21.0.tgz PackageFileSize: 5.278 MiB