Package: MOMA Version: 1.21.0 Command: /Library/Frameworks/R.framework/Resources/bin/R CMD INSTALL MOMA StartedAt: 2025-10-08 15:16:57 -0400 (Wed, 08 Oct 2025) EndedAt: 2025-10-08 15:17:11 -0400 (Wed, 08 Oct 2025) EllapsedTime: 13.6 seconds RetCode: 0 Status: OK