Package: MOMA Version: 1.21.0 Command: /Library/Frameworks/R.framework/Resources/bin/R CMD check --install=check:MOMA.install-out.txt --library=/Library/Frameworks/R.framework/Resources/library --no-vignettes --timings MOMA_1.21.0.tar.gz StartedAt: 2025-10-09 20:31:12 -0400 (Thu, 09 Oct 2025) EndedAt: 2025-10-09 20:32:37 -0400 (Thu, 09 Oct 2025) EllapsedTime: 85.0 seconds RetCode: 0 Status: OK CheckDir: MOMA.Rcheck Warnings: 0