Package: MOMA Version: 1.21.0 Command: /Library/Frameworks/R.framework/Resources/bin/R CMD build --keep-empty-dirs --no-resave-data MOMA StartedAt: 2025-10-08 17:10:56 -0400 (Wed, 08 Oct 2025) EndedAt: 2025-10-08 17:11:48 -0400 (Wed, 08 Oct 2025) EllapsedTime: 51.6 seconds RetCode: 0 Status: OK PackageFile: MOMA_1.21.0.tar.gz PackageFileSize: 4.264 MiB