Package: MOGAMUN Version: 1.20.0 Command: /Library/Frameworks/R.framework/Resources/bin/R CMD check --install=check:MOGAMUN.install-out.txt --library=/Library/Frameworks/R.framework/Resources/library --no-vignettes --timings MOGAMUN_1.20.0.tar.gz StartedAt: 2025-11-18 10:36:36 -0500 (Tue, 18 Nov 2025) EndedAt: 2025-11-18 10:38:44 -0500 (Tue, 18 Nov 2025) EllapsedTime: 127.9 seconds RetCode: 0 Status: OK CheckDir: MOGAMUN.Rcheck Warnings: 0