Package: MOGAMUN Version: 1.20.0 Command: /Library/Frameworks/R.framework/Resources/bin/R CMD build --keep-empty-dirs --no-resave-data MOGAMUN StartedAt: 2025-11-18 00:12:51 -0500 (Tue, 18 Nov 2025) EndedAt: 2025-11-18 00:13:22 -0500 (Tue, 18 Nov 2025) EllapsedTime: 31.2 seconds RetCode: 0 Status: OK PackageFile: MOGAMUN_1.20.0.tar.gz PackageFileSize: 125.9 KiB