Package: MOGAMUN Version: 1.20.0 Command: rm -rf MOGAMUN.buildbin-libdir && mkdir MOGAMUN.buildbin-libdir && /Users/biocbuild/BBS/utils/build-universal.sh MOGAMUN_1.20.0.tar.gz /Library/Frameworks/R.framework/Resources/bin/R MOGAMUN.buildbin-libdir StartedAt: 2025-11-18 18:04:13 -0500 (Tue, 18 Nov 2025) EndedAt: 2025-11-18 18:04:30 -0500 (Tue, 18 Nov 2025) EllapsedTime: 17.1 seconds RetCode: 0 Status: OK PackageFile: MOGAMUN_1.20.0.tgz PackageFileSize: 175.7 KiB