Package: MOFA2 Version: 1.19.0 Command: /home/biocbuild/R/R/bin/R CMD INSTALL MOFA2 StartedAt: 2025-10-23 20:35:46 -0000 (Thu, 23 Oct 2025) EndedAt: 2025-10-23 20:36:16 -0000 (Thu, 23 Oct 2025) EllapsedTime: 30.2 seconds RetCode: 0 Status: OK