Package: MOFA2 Version: 1.19.0 Command: F:\biocbuild\bbs-3.22-bioc\R\bin\R.exe CMD INSTALL MOFA2 StartedAt: 2025-08-14 16:22:26 -0400 (Thu, 14 Aug 2025) EndedAt: 2025-08-14 16:23:27 -0400 (Thu, 14 Aug 2025) EllapsedTime: 61.7 seconds RetCode: 0 Status: OK