Package: MOFA2 Version: 1.19.0 Command: chmod a+r MOFA2 -R && F:\biocbuild\bbs-3.22-bioc\R\bin\R.exe CMD build --keep-empty-dirs --no-resave-data MOFA2 StartedAt: 2025-08-14 21:36:01 -0400 (Thu, 14 Aug 2025) EndedAt: 2025-08-14 21:38:00 -0400 (Thu, 14 Aug 2025) EllapsedTime: 119.0 seconds RetCode: 1 Status: ERROR PackageFile: None PackageFileSize: NA