Package: MOFA2 Version: 1.19.0 Command: /Library/Frameworks/R.framework/Resources/bin/R CMD build --keep-empty-dirs --no-resave-data MOFA2 StartedAt: 2025-10-21 18:15:53 -0400 (Tue, 21 Oct 2025) EndedAt: 2025-10-21 18:19:33 -0400 (Tue, 21 Oct 2025) EllapsedTime: 220.8 seconds RetCode: 0 Status: OK PackageFile: MOFA2_1.19.0.tar.gz PackageFileSize: 4.348 MiB