Package: MOFA2 Version: 1.19.0 Command: rm -rf MOFA2.buildbin-libdir && mkdir MOFA2.buildbin-libdir && /Users/biocbuild/BBS/utils/build-universal.sh MOFA2_1.19.0.tar.gz /Library/Frameworks/R.framework/Resources/bin/R MOFA2.buildbin-libdir StartedAt: 2025-10-21 03:22:31 -0400 (Tue, 21 Oct 2025) EndedAt: 2025-10-21 03:23:10 -0400 (Tue, 21 Oct 2025) EllapsedTime: 39.2 seconds RetCode: 0 Status: OK PackageFile: MOFA2_1.19.0.tgz PackageFileSize: 4.987 MiB