Package: MOFA2 Version: 1.19.0 Command: /Library/Frameworks/R.framework/Resources/bin/R CMD check --install=check:MOFA2.install-out.txt --library=/Library/Frameworks/R.framework/Resources/library --no-vignettes --timings MOFA2_1.19.0.tar.gz StartedAt: 2025-05-08 20:41:07 -0400 (Thu, 08 May 2025) EndedAt: 2025-05-08 20:42:37 -0400 (Thu, 08 May 2025) EllapsedTime: 90.1 seconds RetCode: 0 Status: WARNINGS CheckDir: MOFA2.Rcheck Warnings: 1