Package: MODA Version: 1.35.0 Command: F:\biocbuild\bbs-3.22-bioc\R\bin\R.exe CMD check --no-multiarch --install=check:MODA.install-out.txt --library=F:\biocbuild\bbs-3.22-bioc\R\library --no-vignettes --timings MODA_1.35.0.tar.gz StartedAt: 2025-08-15 05:20:20 -0400 (Fri, 15 Aug 2025) EndedAt: 2025-08-15 05:23:03 -0400 (Fri, 15 Aug 2025) EllapsedTime: 163.1 seconds RetCode: 0 Status: OK CheckDir: MODA.Rcheck Warnings: 0