Package: MODA Version: 1.35.0 Command: /home/biocbuild/bbs-3.22-bioc/R/bin/R CMD INSTALL MODA StartedAt: 2025-10-19 15:45:00 -0400 (Sun, 19 Oct 2025) EndedAt: 2025-10-19 15:45:20 -0400 (Sun, 19 Oct 2025) EllapsedTime: 19.7 seconds RetCode: 0 Status: OK