Package: MODA Version: 1.35.0 Command: /home/biocbuild/bbs-3.22-bioc/R/bin/R CMD build --keep-empty-dirs --no-resave-data --md5 MODA StartedAt: 2025-10-19 18:46:17 -0400 (Sun, 19 Oct 2025) EndedAt: 2025-10-19 18:46:18 -0400 (Sun, 19 Oct 2025) EllapsedTime: 1.0 seconds RetCode: 0 Status: OK PackageFile: MODA_1.35.0.tar.gz PackageFileSize: 297 KiB