Package: MODA Version: 1.35.0 Command: /Library/Frameworks/R.framework/Resources/bin/R CMD INSTALL MODA StartedAt: 2025-10-19 15:36:44 -0400 (Sun, 19 Oct 2025) EndedAt: 2025-10-19 15:37:12 -0400 (Sun, 19 Oct 2025) EllapsedTime: 28.4 seconds RetCode: 0 Status: OK