Package: MODA Version: 1.35.0 Command: /Library/Frameworks/R.framework/Resources/bin/R CMD check --install=check:MODA.install-out.txt --library=/Library/Frameworks/R.framework/Resources/library --no-vignettes --timings MODA_1.35.0.tar.gz StartedAt: 2025-10-19 23:54:32 -0400 (Sun, 19 Oct 2025) EndedAt: 2025-10-19 23:57:13 -0400 (Sun, 19 Oct 2025) EllapsedTime: 161.6 seconds RetCode: 0 Status: OK CheckDir: MODA.Rcheck Warnings: 0