Package: MODA Version: 1.35.0 Command: rm -rf MODA.buildbin-libdir && mkdir MODA.buildbin-libdir && /Users/biocbuild/BBS/utils/build-universal.sh MODA_1.35.0.tar.gz /Library/Frameworks/R.framework/Resources/bin/R MODA.buildbin-libdir StartedAt: 2025-10-20 03:19:48 -0400 (Mon, 20 Oct 2025) EndedAt: 2025-10-20 03:20:19 -0400 (Mon, 20 Oct 2025) EllapsedTime: 30.9 seconds RetCode: 0 Status: OK PackageFile: MODA_1.35.0.tgz PackageFileSize: 359.2 KiB