Package: MMDiff2 Version: 1.37.1 Command: /Library/Frameworks/R.framework/Resources/bin/R CMD INSTALL MMDiff2 StartedAt: 2025-10-03 15:17:01 -0400 (Fri, 03 Oct 2025) EndedAt: 2025-10-03 15:17:16 -0400 (Fri, 03 Oct 2025) EllapsedTime: 15.3 seconds RetCode: 0 Status: OK