Package: MLSeq Version: 2.27.0 Command: /home/biocbuild/R/R/bin/R CMD INSTALL MLSeq StartedAt: 2025-10-23 20:40:42 -0000 (Thu, 23 Oct 2025) EndedAt: 2025-10-23 20:41:29 -0000 (Thu, 23 Oct 2025) EllapsedTime: 46.5 seconds RetCode: 0 Status: OK