Package: MLSeq Version: 2.27.0 Command: /home/biocbuild/R/R/bin/R CMD build --keep-empty-dirs --no-resave-data MLSeq StartedAt: 2025-10-21 01:20:56 -0000 (Tue, 21 Oct 2025) EndedAt: 2025-10-21 01:23:20 -0000 (Tue, 21 Oct 2025) EllapsedTime: 144.1 seconds RetCode: 0 Status: OK PackageFile: MLSeq_2.27.0.tar.gz PackageFileSize: 625.4 KiB