Package: MLSeq Version: 2.27.0 Command: /home/biocbuild/bbs-3.22-bioc/R/bin/R CMD INSTALL MLSeq StartedAt: 2025-10-20 15:20:47 -0400 (Mon, 20 Oct 2025) EndedAt: 2025-10-20 15:21:20 -0400 (Mon, 20 Oct 2025) EllapsedTime: 33.5 seconds RetCode: 0 Status: OK