Package: MLSeq Version: 2.27.0 Command: /home/biocbuild/bbs-3.22-bioc/R/bin/R CMD check --install=check:MLSeq.install-out.txt --library=/home/biocbuild/bbs-3.22-bioc/R/site-library --timings MLSeq_2.27.0.tar.gz StartedAt: 2025-10-21 01:58:27 -0400 (Tue, 21 Oct 2025) EndedAt: 2025-10-21 02:03:09 -0400 (Tue, 21 Oct 2025) EllapsedTime: 282.2 seconds RetCode: 0 Status: OK CheckDir: MLSeq.Rcheck Warnings: 0