Package: MLSeq Version: 2.27.0 Command: /Library/Frameworks/R.framework/Resources/bin/R CMD INSTALL MLSeq StartedAt: 2025-10-21 15:23:57 -0400 (Tue, 21 Oct 2025) EndedAt: 2025-10-21 15:24:44 -0400 (Tue, 21 Oct 2025) EllapsedTime: 46.8 seconds RetCode: 0 Status: OK