Package: MLSeq Version: 2.27.0 Command: /Library/Frameworks/R.framework/Resources/bin/R CMD build --keep-empty-dirs --no-resave-data MLSeq StartedAt: 2025-10-21 18:13:38 -0400 (Tue, 21 Oct 2025) EndedAt: 2025-10-21 18:16:47 -0400 (Tue, 21 Oct 2025) EllapsedTime: 189.5 seconds RetCode: 0 Status: OK PackageFile: MLSeq_2.27.0.tar.gz PackageFileSize: 597 KiB