Package: MLP Version: 1.57.0 Command: /home/biocbuild/R/R/bin/R CMD INSTALL MLP StartedAt: 2025-09-29 21:06:18 -0000 (Mon, 29 Sep 2025) EndedAt: 2025-09-29 21:06:34 -0000 (Mon, 29 Sep 2025) EllapsedTime: 16.1 seconds RetCode: 0 Status: OK