Package: MLInterfaces Version: 1.89.2 Command: /home/biocbuild/R/R/bin/R CMD INSTALL MLInterfaces StartedAt: 2025-10-20 20:42:41 -0000 (Mon, 20 Oct 2025) EndedAt: 2025-10-20 20:43:21 -0000 (Mon, 20 Oct 2025) EllapsedTime: 40.5 seconds RetCode: 0 Status: OK