Package: MLInterfaces Version: 1.89.2 Command: /home/biocbuild/bbs-3.22-bioc/R/bin/R CMD build --keep-empty-dirs --no-resave-data --md5 MLInterfaces StartedAt: 2025-10-19 18:44:32 -0400 (Sun, 19 Oct 2025) EndedAt: 2025-10-19 18:45:36 -0400 (Sun, 19 Oct 2025) EllapsedTime: 64.0 seconds RetCode: 0 Status: OK PackageFile: MLInterfaces_1.89.2.tar.gz PackageFileSize: 2.803 MiB