Package: MLInterfaces Version: 1.89.2 Command: /Library/Frameworks/R.framework/Resources/bin/R CMD INSTALL MLInterfaces StartedAt: 2025-10-20 15:25:30 -0400 (Mon, 20 Oct 2025) EndedAt: 2025-10-20 15:26:14 -0400 (Mon, 20 Oct 2025) EllapsedTime: 43.6 seconds RetCode: 0 Status: OK