Package: MLInterfaces Version: 1.89.2 Command: rm -rf MLInterfaces.buildbin-libdir && mkdir MLInterfaces.buildbin-libdir && /Users/biocbuild/BBS/utils/build-universal.sh MLInterfaces_1.89.2.tar.gz /Library/Frameworks/R.framework/Resources/bin/R MLInterfaces.buildbin-libdir StartedAt: 2025-10-20 03:19:43 -0400 (Mon, 20 Oct 2025) EndedAt: 2025-10-20 03:20:29 -0400 (Mon, 20 Oct 2025) EllapsedTime: 45.9 seconds RetCode: 0 Status: OK PackageFile: MLInterfaces_1.89.2.tgz PackageFileSize: 3.215 MiB