Package: MLInterfaces Version: 1.89.2 Command: /Library/Frameworks/R.framework/Resources/bin/R CMD INSTALL MLInterfaces StartedAt: 2025-10-19 15:12:53 -0400 (Sun, 19 Oct 2025) EndedAt: 2025-10-19 15:13:05 -0400 (Sun, 19 Oct 2025) EllapsedTime: 12.6 seconds RetCode: 0 Status: OK