Package: MLInterfaces Version: 1.89.2 Command: /Library/Frameworks/R.framework/Resources/bin/R CMD check --install=check:MLInterfaces.install-out.txt --library=/Library/Frameworks/R.framework/Resources/library --no-vignettes --timings MLInterfaces_1.89.2.tar.gz StartedAt: 2025-10-19 20:44:05 -0400 (Sun, 19 Oct 2025) EndedAt: 2025-10-19 20:45:32 -0400 (Sun, 19 Oct 2025) EllapsedTime: 86.9 seconds RetCode: 0 Status: WARNINGS CheckDir: MLInterfaces.Rcheck Warnings: 1