Package: MLInterfaces Version: 1.89.2 Command: /Library/Frameworks/R.framework/Resources/bin/R CMD build --keep-empty-dirs --no-resave-data MLInterfaces StartedAt: 2025-10-19 17:01:35 -0400 (Sun, 19 Oct 2025) EndedAt: 2025-10-19 17:02:06 -0400 (Sun, 19 Oct 2025) EllapsedTime: 31.3 seconds RetCode: 0 Status: OK PackageFile: MLInterfaces_1.89.2.tar.gz PackageFileSize: 2.808 MiB