Package: MLInterfaces Version: 1.89.2 Command: rm -rf MLInterfaces.buildbin-libdir && mkdir MLInterfaces.buildbin-libdir && /Users/biocbuild/BBS/utils/build-universal.sh MLInterfaces_1.89.2.tar.gz /Library/Frameworks/R.framework/Resources/bin/R MLInterfaces.buildbin-libdir StartedAt: 2025-10-19 23:06:56 -0400 (Sun, 19 Oct 2025) EndedAt: 2025-10-19 23:07:09 -0400 (Sun, 19 Oct 2025) EllapsedTime: 13.3 seconds RetCode: 0 Status: OK PackageFile: MLInterfaces_1.89.2.tgz PackageFileSize: 3.218 MiB