Package: MLInterfaces Version: 1.89.2 Maintainer: Vincent Carey MaintainerEmail: stvjc at channing.harvard.edu git_url: https://git.bioconductor.org/packages/MLInterfaces git_branch: devel git_last_commit: 52321ff git_last_commit_date: 2025-10-15 08:27:35 -0400 (Wed, 15 Oct 2025)