Package: MIRit Version: 1.5.1 Command: F:\biocbuild\bbs-3.22-bioc\R\bin\R.exe CMD INSTALL MIRit StartedAt: 2025-08-14 16:48:33 -0400 (Thu, 14 Aug 2025) EndedAt: 2025-08-14 16:49:40 -0400 (Thu, 14 Aug 2025) EllapsedTime: 67.5 seconds RetCode: 0 Status: OK