Package: MIRit Version: 1.5.2 Command: /Library/Frameworks/R.framework/Resources/bin/R CMD INSTALL MIRit StartedAt: 2025-10-16 16:10:38 -0400 (Thu, 16 Oct 2025) EndedAt: 2025-10-16 16:11:35 -0400 (Thu, 16 Oct 2025) EllapsedTime: 57.0 seconds RetCode: 0 Status: OK