Package: MIRit Version: 1.5.2 Command: /Library/Frameworks/R.framework/Resources/bin/R CMD check --install=check:MIRit.install-out.txt --library=/Library/Frameworks/R.framework/Resources/library --no-vignettes --timings MIRit_1.5.2.tar.gz StartedAt: 2025-10-21 23:16:30 -0400 (Tue, 21 Oct 2025) EndedAt: 2025-10-21 23:21:03 -0400 (Tue, 21 Oct 2025) EllapsedTime: 273.7 seconds RetCode: 0 Status: OK CheckDir: MIRit.Rcheck Warnings: 0