Package: MIRit Version: 1.5.2 Command: rm -rf MIRit.buildbin-libdir && mkdir MIRit.buildbin-libdir && /Users/biocbuild/BBS/utils/build-universal.sh MIRit_1.5.2.tar.gz /Library/Frameworks/R.framework/Resources/bin/R MIRit.buildbin-libdir StartedAt: 2025-10-17 04:00:34 -0400 (Fri, 17 Oct 2025) EndedAt: 2025-10-17 04:01:34 -0400 (Fri, 17 Oct 2025) EllapsedTime: 60.1 seconds RetCode: 0 Status: OK PackageFile: MIRit_1.5.2.tgz PackageFileSize: 3.023 MiB