Package: MIRit Version: 1.5.2 Command: /Library/Frameworks/R.framework/Resources/bin/R CMD build --keep-empty-dirs --no-resave-data MIRit StartedAt: 2025-10-17 17:02:17 -0400 (Fri, 17 Oct 2025) EndedAt: 2025-10-17 17:02:48 -0400 (Fri, 17 Oct 2025) EllapsedTime: 30.4 seconds RetCode: 0 Status: OK PackageFile: MIRit_1.5.2.tar.gz PackageFileSize: 2.708 MiB